Package: loci2path Version: 1.26.0 Command: F:\biocbuild\bbs-3.20-bioc\R\bin\R.exe CMD INSTALL loci2path StartedAt: 2025-02-10 15:54:27 -0500 (Mon, 10 Feb 2025) EndedAt: 2025-02-10 15:55:11 -0500 (Mon, 10 Feb 2025) EllapsedTime: 44.7 seconds RetCode: 0 Status: OK