Package: loci2path Version: 1.26.0 Command: /home/biocbuild/R/R/bin/R CMD build --keep-empty-dirs --no-resave-data loci2path StartedAt: 2025-02-11 00:25:30 -0000 (Tue, 11 Feb 2025) EndedAt: 2025-02-11 00:25:55 -0000 (Tue, 11 Feb 2025) EllapsedTime: 25.0 seconds RetCode: 0 Status: OK PackageFile: loci2path_1.26.0.tar.gz PackageFileSize: 572.1 KiB