Package: loci2path Version: 1.26.0 Command: /home/biocbuild/R/R/bin/R CMD INSTALL loci2path StartedAt: 2025-02-10 20:24:59 -0000 (Mon, 10 Feb 2025) EndedAt: 2025-02-10 20:25:14 -0000 (Mon, 10 Feb 2025) EllapsedTime: 14.8 seconds RetCode: 0 Status: OK