Package: lpNet Version: 2.38.0 Command: /home/biocbuild/bbs-3.20-bioc/R/bin/R CMD check --install=check:lpNet.install-out.txt --library=/home/biocbuild/bbs-3.20-bioc/R/site-library --timings lpNet_2.38.0.tar.gz StartedAt: 2025-02-03 23:41:32 -0500 (Mon, 03 Feb 2025) EndedAt: 2025-02-03 23:42:27 -0500 (Mon, 03 Feb 2025) EllapsedTime: 55.2 seconds RetCode: 0 Status: WARNINGS CheckDir: lpNet.Rcheck Warnings: 1