Package: lpNet
Version: 2.38.0
Command: F:\biocbuild\bbs-3.20-bioc\R\bin\R.exe CMD INSTALL lpNet
StartedAt: 2025-02-17 15:48:24 -0500 (Mon, 17 Feb 2025)
EndedAt: 2025-02-17 15:48:38 -0500 (Mon, 17 Feb 2025)
EllapsedTime: 13.9 seconds
RetCode: 0
Status: OK