Package: lpNet Version: 2.38.0 Command: /home/biocbuild/R/R/bin/R CMD build --keep-empty-dirs --no-resave-data lpNet StartedAt: 2025-02-04 00:35:45 -0000 (Tue, 04 Feb 2025) EndedAt: 2025-02-04 00:36:27 -0000 (Tue, 04 Feb 2025) EllapsedTime: 42.0 seconds RetCode: 0 Status: OK PackageFile: lpNet_2.38.0.tar.gz PackageFileSize: 298.4 KiB