Package: lpNet Version: 2.38.0 Command: /home/biocbuild/R/R/bin/R CMD INSTALL lpNet StartedAt: 2025-02-03 20:26:51 -0000 (Mon, 03 Feb 2025) EndedAt: 2025-02-03 20:27:03 -0000 (Mon, 03 Feb 2025) EllapsedTime: 12.2 seconds RetCode: 0 Status: OK