Package: m6Aboost Version: 1.12.0 Command: /Library/Frameworks/R.framework/Resources/bin/R CMD INSTALL m6Aboost StartedAt: 2025-02-03 17:34:42 -0500 (Mon, 03 Feb 2025) EndedAt: 2025-02-03 17:35:31 -0500 (Mon, 03 Feb 2025) EllapsedTime: 48.2 seconds RetCode: 0 Status: OK