Package: m6Aboost Version: 1.12.0 Command: /Library/Frameworks/R.framework/Resources/bin/R CMD build --keep-empty-dirs --no-resave-data m6Aboost StartedAt: 2024-11-08 17:54:49 -0500 (Fri, 08 Nov 2024) EndedAt: 2024-11-08 17:55:18 -0500 (Fri, 08 Nov 2024) EllapsedTime: 28.3 seconds RetCode: 0 Status: OK PackageFile: m6Aboost_1.12.0.tar.gz PackageFileSize: 759.6 KiB