Package: m6Aboost Version: 1.12.0 Command: rm -rf m6Aboost.buildbin-libdir && mkdir m6Aboost.buildbin-libdir && /Users/biocbuild/BBS/utils/build-universal.sh m6Aboost_1.12.0.tar.gz /Library/Frameworks/R.framework/Resources/bin/R m6Aboost.buildbin-libdir StartedAt: 2025-01-31 13:04:55 -0500 (Fri, 31 Jan 2025) EndedAt: 2025-01-31 13:06:27 -0500 (Fri, 31 Jan 2025) EllapsedTime: 92.1 seconds RetCode: 0 Status: OK PackageFile: m6Aboost_1.12.0.tgz PackageFileSize: 574.1 KiB