Package: m6Aboost Version: 1.12.0 Command: /Library/Frameworks/R.framework/Resources/bin/R CMD check --install=check:m6Aboost.install-out.txt --library=/Library/Frameworks/R.framework/Resources/library --no-vignettes --timings m6Aboost_1.12.0.tar.gz StartedAt: 2025-02-04 05:42:54 -0500 (Tue, 04 Feb 2025) EndedAt: 2025-02-04 05:53:30 -0500 (Tue, 04 Feb 2025) EllapsedTime: 636.6 seconds RetCode: 0 Status: OK CheckDir: m6Aboost.Rcheck Warnings: 0