Package: m6Aboost Version: 1.12.0 Command: /Library/Frameworks/R.framework/Resources/bin/R CMD INSTALL m6Aboost StartedAt: 2025-02-03 16:30:04 -0500 (Mon, 03 Feb 2025) EndedAt: 2025-02-03 16:31:33 -0500 (Mon, 03 Feb 2025) EllapsedTime: 89.5 seconds RetCode: 0 Status: OK