Package: m6Aboost Version: 1.12.0 Command: rm -rf m6Aboost.buildbin-libdir && mkdir m6Aboost.buildbin-libdir && F:\biocbuild\bbs-3.20-bioc\R\bin\R.exe CMD INSTALL --build --library=m6Aboost.buildbin-libdir m6Aboost_1.12.0.tar.gz StartedAt: 2025-01-31 08:57:31 -0500 (Fri, 31 Jan 2025) EndedAt: 2025-01-31 08:58:29 -0500 (Fri, 31 Jan 2025) EllapsedTime: 57.9 seconds RetCode: 0 Status: OK PackageFile: m6Aboost_1.12.0.zip PackageFileSize: 578.6 KiB