Package: m6Aboost Version: 1.12.0 Command: chmod a+r m6Aboost -R && F:\biocbuild\bbs-3.20-bioc\R\bin\R.exe CMD build --keep-empty-dirs --no-resave-data m6Aboost StartedAt: 2025-02-03 20:05:03 -0500 (Mon, 03 Feb 2025) EndedAt: 2025-02-03 20:06:47 -0500 (Mon, 03 Feb 2025) EllapsedTime: 103.7 seconds RetCode: 0 Status: OK PackageFile: m6Aboost_1.12.0.tar.gz PackageFileSize: 759.7 KiB