Package: m6Aboost Version: 1.12.0 Command: F:\biocbuild\bbs-3.20-bioc\R\bin\R.exe CMD check --no-multiarch --install=check:m6Aboost.install-out.txt --library=F:\biocbuild\bbs-3.20-bioc\R\library --no-vignettes --timings m6Aboost_1.12.0.tar.gz StartedAt: 2025-01-31 03:27:41 -0500 (Fri, 31 Jan 2025) EndedAt: 2025-01-31 03:33:57 -0500 (Fri, 31 Jan 2025) EllapsedTime: 375.7 seconds RetCode: 0 Status: OK CheckDir: m6Aboost.Rcheck Warnings: 0