Package: m6Aboost Version: 1.12.0 Command: /home/biocbuild/R/R/bin/R CMD build --keep-empty-dirs --no-resave-data m6Aboost StartedAt: 2025-01-31 00:35:53 -0000 (Fri, 31 Jan 2025) EndedAt: 2025-01-31 00:37:24 -0000 (Fri, 31 Jan 2025) EllapsedTime: 91.0 seconds RetCode: 0 Status: OK PackageFile: m6Aboost_1.12.0.tar.gz PackageFileSize: 824.5 KiB