Package: m6Aboost Version: 1.12.0 Command: /home/biocbuild/R/R/bin/R CMD check --install=check:m6Aboost.install-out.txt --library=/home/biocbuild/R/R/site-library --no-vignettes --timings m6Aboost_1.12.0.tar.gz StartedAt: 2025-01-31 07:40:42 -0000 (Fri, 31 Jan 2025) EndedAt: 2025-01-31 07:46:58 -0000 (Fri, 31 Jan 2025) EllapsedTime: 375.6 seconds RetCode: 0 Status: WARNINGS CheckDir: m6Aboost.Rcheck Warnings: 1