Package: m6Aboost Version: 1.12.0 Command: /home/biocbuild/R/R/bin/R CMD INSTALL m6Aboost StartedAt: 2025-01-30 20:56:32 -0000 (Thu, 30 Jan 2025) EndedAt: 2025-01-30 20:57:26 -0000 (Thu, 30 Jan 2025) EllapsedTime: 53.7 seconds RetCode: 0 Status: OK