Package: mBPCR Version: 1.60.0 Command: rm -rf mBPCR.buildbin-libdir && mkdir mBPCR.buildbin-libdir && /Users/biocbuild/BBS/utils/build-universal.sh mBPCR_1.60.0.tar.gz /Library/Frameworks/R.framework/Resources/bin/R mBPCR.buildbin-libdir StartedAt: 2025-02-05 16:30:59 -0500 (Wed, 05 Feb 2025) EndedAt: 2025-02-05 16:31:39 -0500 (Wed, 05 Feb 2025) EllapsedTime: 40.7 seconds RetCode: 0 Status: OK PackageFile: mBPCR_1.60.0.tgz PackageFileSize: 930 KiB