Package: mBPCR Version: 1.60.0 Command: /Library/Frameworks/R.framework/Resources/bin/R CMD check --install=check:mBPCR.install-out.txt --library=/Library/Frameworks/R.framework/Resources/library --no-vignettes --timings mBPCR_1.60.0.tar.gz StartedAt: 2025-02-05 00:47:22 -0500 (Wed, 05 Feb 2025) EndedAt: 2025-02-05 00:51:36 -0500 (Wed, 05 Feb 2025) EllapsedTime: 254.1 seconds RetCode: 0 Status: OK CheckDir: mBPCR.Rcheck Warnings: 0