Package: mBPCR Version: 1.60.0 Command: /Library/Frameworks/R.framework/Resources/bin/R CMD INSTALL mBPCR StartedAt: 2025-02-03 17:32:55 -0500 (Mon, 03 Feb 2025) EndedAt: 2025-02-03 17:33:32 -0500 (Mon, 03 Feb 2025) EllapsedTime: 37.5 seconds RetCode: 0 Status: OK