Package: mBPCR Version: 1.60.0 Command: /home/biocbuild/R/R/bin/R CMD INSTALL mBPCR StartedAt: 2024-11-19 21:19:09 -0000 (Tue, 19 Nov 2024) EndedAt: 2024-11-19 21:19:54 -0000 (Tue, 19 Nov 2024) EllapsedTime: 45.1 seconds RetCode: 0 Status: OK