Package: mBPCR Version: 1.60.0 Command: /Library/Frameworks/R.framework/Resources/bin/R CMD INSTALL mBPCR StartedAt: 2024-11-19 15:38:44 -0500 (Tue, 19 Nov 2024) EndedAt: 2024-11-19 15:39:28 -0500 (Tue, 19 Nov 2024) EllapsedTime: 44.9 seconds RetCode: 0 Status: OK