Package: mBPCR Version: 1.60.0 Command: rm -rf mBPCR.buildbin-libdir && mkdir mBPCR.buildbin-libdir && /Users/biocbuild/BBS/utils/build-universal.sh mBPCR_1.60.0.tar.gz /Library/Frameworks/R.framework/Resources/bin/R mBPCR.buildbin-libdir StartedAt: 2025-02-04 13:20:49 -0500 (Tue, 04 Feb 2025) EndedAt: 2025-02-04 13:22:23 -0500 (Tue, 04 Feb 2025) EllapsedTime: 93.9 seconds RetCode: 0 Status: OK PackageFile: mBPCR_1.60.0.tgz PackageFileSize: 929.9 KiB