Package: mBPCR Version: 1.60.0 Command: /home/biocbuild/bbs-3.20-bioc/R/bin/R CMD build --keep-empty-dirs --no-resave-data --md5 mBPCR StartedAt: 2025-02-03 18:04:50 -0500 (Mon, 03 Feb 2025) EndedAt: 2025-02-03 18:05:44 -0500 (Mon, 03 Feb 2025) EllapsedTime: 54.1 seconds RetCode: 0 Status: OK PackageFile: mBPCR_1.60.0.tar.gz PackageFileSize: 836.8 KiB