Package: mBPCR Version: 1.60.0 Command: /home/biocbuild/bbs-3.20-bioc/R/bin/R CMD check --install=check:mBPCR.install-out.txt --library=/home/biocbuild/bbs-3.20-bioc/R/site-library --timings mBPCR_1.60.0.tar.gz StartedAt: 2025-02-03 23:48:41 -0500 (Mon, 03 Feb 2025) EndedAt: 2025-02-03 23:52:32 -0500 (Mon, 03 Feb 2025) EllapsedTime: 231.2 seconds RetCode: 0 Status: OK CheckDir: mBPCR.Rcheck Warnings: 0