Package: mBPCR Version: 1.60.0 Command: /home/biocbuild/bbs-3.20-bioc/R/bin/R CMD INSTALL mBPCR StartedAt: 2025-02-03 15:57:16 -0500 (Mon, 03 Feb 2025) EndedAt: 2025-02-03 15:57:51 -0500 (Mon, 03 Feb 2025) EllapsedTime: 34.4 seconds RetCode: 0 Status: OK