Package: mBPCR Version: 1.60.0 Command: chmod a+r mBPCR -R && F:\biocbuild\bbs-3.20-bioc\R\bin\R.exe CMD build --keep-empty-dirs --no-resave-data mBPCR StartedAt: 2025-02-03 20:10:09 -0500 (Mon, 03 Feb 2025) EndedAt: 2025-02-03 20:11:31 -0500 (Mon, 03 Feb 2025) EllapsedTime: 81.6 seconds RetCode: 0 Status: OK PackageFile: mBPCR_1.60.0.tar.gz PackageFileSize: 693.4 KiB