Package: mBPCR Version: 1.60.0 Command: /home/biocbuild/R/R/bin/R CMD build --keep-empty-dirs --no-resave-data mBPCR StartedAt: 2025-02-04 00:42:41 -0000 (Tue, 04 Feb 2025) EndedAt: 2025-02-04 00:43:50 -0000 (Tue, 04 Feb 2025) EllapsedTime: 69.0 seconds RetCode: 0 Status: OK PackageFile: mBPCR_1.60.0.tar.gz PackageFileSize: 826.1 KiB