Package: mCSEA Version: 1.26.2 Command: /home/biocbuild/bbs-3.20-bioc/R/bin/R CMD build --keep-empty-dirs --no-resave-data --md5 mCSEA StartedAt: 2025-02-03 18:05:18 -0500 (Mon, 03 Feb 2025) EndedAt: 2025-02-03 18:08:25 -0500 (Mon, 03 Feb 2025) EllapsedTime: 187.2 seconds RetCode: 0 Status: OK PackageFile: mCSEA_1.26.2.tar.gz PackageFileSize: 1.872 MiB