Package: mCSEA Version: 1.26.2 Command: chmod a+r mCSEA -R && F:\biocbuild\bbs-3.20-bioc\R\bin\R.exe CMD build --keep-empty-dirs --no-resave-data mCSEA StartedAt: 2025-02-03 20:10:47 -0500 (Mon, 03 Feb 2025) EndedAt: 2025-02-03 20:15:22 -0500 (Mon, 03 Feb 2025) EllapsedTime: 275.4 seconds RetCode: 0 Status: OK PackageFile: mCSEA_1.26.2.tar.gz PackageFileSize: 1.873 MiB