Package: mCSEA
Version: 1.25.0
Command: /home/biocbuild/bbs-3.20-bioc/R/bin/R CMD check --install=check:mCSEA.install-out.txt --library=/home/biocbuild/bbs-3.20-bioc/R/site-library --timings mCSEA_1.25.0.tar.gz
StartedAt: 2024-10-03 02:18:39 -0400 (Thu, 03 Oct 2024)
EndedAt: 2024-10-03 02:25:24 -0400 (Thu, 03 Oct 2024)
EllapsedTime: 405.6 seconds
RetCode: 0
Status: OK
CheckDir: mCSEA.Rcheck
Warnings: 0