Package: maCorrPlot Version: 1.76.0 Command: /Library/Frameworks/R.framework/Resources/bin/R CMD build --keep-empty-dirs --no-resave-data maCorrPlot StartedAt: 2024-11-08 17:54:54 -0500 (Fri, 08 Nov 2024) EndedAt: 2024-11-08 17:54:58 -0500 (Fri, 08 Nov 2024) EllapsedTime: 4.0 seconds RetCode: 0 Status: OK PackageFile: maCorrPlot_1.76.0.tar.gz PackageFileSize: 1.265 MiB