Package: maCorrPlot Version: 1.76.0 Command: rm -rf maCorrPlot.buildbin-libdir && mkdir maCorrPlot.buildbin-libdir && /Users/biocbuild/BBS/utils/build-universal.sh maCorrPlot_1.76.0.tar.gz /Library/Frameworks/R.framework/Resources/bin/R maCorrPlot.buildbin-libdir StartedAt: 2025-02-04 13:18:38 -0500 (Tue, 04 Feb 2025) EndedAt: 2025-02-04 13:18:44 -0500 (Tue, 04 Feb 2025) EllapsedTime: 6.3 seconds RetCode: 0 Status: OK PackageFile: maCorrPlot_1.76.0.tgz PackageFileSize: 1.168 MiB