Package: maCorrPlot Version: 1.76.0 Command: /Library/Frameworks/R.framework/Resources/bin/R CMD INSTALL maCorrPlot StartedAt: 2025-02-03 15:12:53 -0500 (Mon, 03 Feb 2025) EndedAt: 2025-02-03 15:13:01 -0500 (Mon, 03 Feb 2025) EllapsedTime: 7.6 seconds RetCode: 0 Status: OK