Package: maCorrPlot Version: 1.76.0 Command: /home/biocbuild/bbs-3.20-bioc/R/bin/R CMD check --install=check:maCorrPlot.install-out.txt --library=/home/biocbuild/bbs-3.20-bioc/R/site-library --timings maCorrPlot_1.76.0.tar.gz StartedAt: 2025-02-03 23:42:41 -0500 (Mon, 03 Feb 2025) EndedAt: 2025-02-03 23:43:02 -0500 (Mon, 03 Feb 2025) EllapsedTime: 21.0 seconds RetCode: 0 Status: OK CheckDir: maCorrPlot.Rcheck Warnings: 0