Package: maCorrPlot Version: 1.76.0 Command: /home/biocbuild/bbs-3.20-bioc/R/bin/R CMD INSTALL maCorrPlot StartedAt: 2025-02-03 15:13:51 -0500 (Mon, 03 Feb 2025) EndedAt: 2025-02-03 15:13:58 -0500 (Mon, 03 Feb 2025) EllapsedTime: 6.3 seconds RetCode: 0 Status: OK