Package: maCorrPlot Version: 1.75.0 Command: C:\Users\biocbuild\bbs-3.20-bioc\R\bin\R.exe CMD INSTALL maCorrPlot StartedAt: 2024-07-15 15:16:13 -0400 (Mon, 15 Jul 2024) EndedAt: 2024-07-15 15:16:36 -0400 (Mon, 15 Jul 2024) EllapsedTime: 23.0 seconds RetCode: 0 Status: OK