Package: maCorrPlot Version: 1.76.0 Command: rm -rf maCorrPlot.buildbin-libdir && mkdir maCorrPlot.buildbin-libdir && F:\biocbuild\bbs-3.20-bioc\R\bin\R.exe CMD INSTALL --build --library=maCorrPlot.buildbin-libdir maCorrPlot_1.76.0.tar.gz StartedAt: 2025-02-04 08:49:50 -0500 (Tue, 04 Feb 2025) EndedAt: 2025-02-04 08:50:01 -0500 (Tue, 04 Feb 2025) EllapsedTime: 11.2 seconds RetCode: 0 Status: OK PackageFile: maCorrPlot_1.76.0.zip PackageFileSize: 1.172 MiB