Package: maCorrPlot Version: 1.76.0 Command: F:\biocbuild\bbs-3.20-bioc\R\bin\R.exe CMD INSTALL maCorrPlot StartedAt: 2025-02-03 15:32:23 -0500 (Mon, 03 Feb 2025) EndedAt: 2025-02-03 15:32:33 -0500 (Mon, 03 Feb 2025) EllapsedTime: 10.5 seconds RetCode: 0 Status: OK