Package: maCorrPlot Version: 1.76.0 Command: /home/biocbuild/R/R/bin/R CMD build --keep-empty-dirs --no-resave-data maCorrPlot StartedAt: 2025-02-04 00:36:44 -0000 (Tue, 04 Feb 2025) EndedAt: 2025-02-04 00:36:50 -0000 (Tue, 04 Feb 2025) EllapsedTime: 6.0 seconds RetCode: 0 Status: OK PackageFile: maCorrPlot_1.76.0.tar.gz PackageFileSize: 1.26 MiB