Package: maCorrPlot Version: 1.76.0 Command: /home/biocbuild/R/R/bin/R CMD INSTALL maCorrPlot StartedAt: 2025-02-03 20:21:52 -0000 (Mon, 03 Feb 2025) EndedAt: 2025-02-03 20:22:04 -0000 (Mon, 03 Feb 2025) EllapsedTime: 12.2 seconds RetCode: 0 Status: OK