Package: maPredictDSC Version: 1.44.0 Command: /Library/Frameworks/R.framework/Resources/bin/R CMD build --keep-empty-dirs --no-resave-data maPredictDSC StartedAt: 2025-02-04 02:31:32 -0500 (Tue, 04 Feb 2025) EndedAt: 2025-02-04 02:33:23 -0500 (Tue, 04 Feb 2025) EllapsedTime: 111.1 seconds RetCode: 0 Status: OK PackageFile: maPredictDSC_1.44.0.tar.gz PackageFileSize: 197.5 KiB