Package: maPredictDSC Version: 1.44.0 Command: /Library/Frameworks/R.framework/Resources/bin/R CMD INSTALL maPredictDSC StartedAt: 2025-02-03 17:35:29 -0500 (Mon, 03 Feb 2025) EndedAt: 2025-02-03 17:35:57 -0500 (Mon, 03 Feb 2025) EllapsedTime: 27.2 seconds RetCode: 0 Status: OK