Package: maPredictDSC Version: 1.44.0 Command: /Library/Frameworks/R.framework/Resources/bin/R CMD check --install=check:maPredictDSC.install-out.txt --library=/Library/Frameworks/R.framework/Resources/library --no-vignettes --timings maPredictDSC_1.44.0.tar.gz StartedAt: 2025-02-04 05:47:38 -0500 (Tue, 04 Feb 2025) EndedAt: 2025-02-04 05:56:28 -0500 (Tue, 04 Feb 2025) EllapsedTime: 530.6 seconds RetCode: 0 Status: OK CheckDir: maPredictDSC.Rcheck Warnings: 0