Package: maPredictDSC
Version: 1.43.0
Command: C:\Users\biocbuild\bbs-3.20-bioc\R\bin\R.exe CMD INSTALL maPredictDSC
StartedAt: 2024-07-15 16:06:12 -0400 (Mon, 15 Jul 2024)
EndedAt: 2024-07-15 16:06:39 -0400 (Mon, 15 Jul 2024)
EllapsedTime: 27.3 seconds
RetCode: 0
Status: OK