Package: maPredictDSC Version: 1.44.0 Command: /home/biocbuild/R/R/bin/R CMD build --keep-empty-dirs --no-resave-data maPredictDSC StartedAt: 2025-02-04 00:38:34 -0000 (Tue, 04 Feb 2025) EndedAt: 2025-02-04 00:40:13 -0000 (Tue, 04 Feb 2025) EllapsedTime: 99.0 seconds RetCode: 0 Status: OK PackageFile: maPredictDSC_1.44.0.tar.gz PackageFileSize: 190.8 KiB