Package: maPredictDSC Version: 1.44.0 Command: /home/biocbuild/R/R/bin/R CMD INSTALL maPredictDSC StartedAt: 2025-02-03 21:12:55 -0000 (Mon, 03 Feb 2025) EndedAt: 2025-02-03 21:13:24 -0000 (Mon, 03 Feb 2025) EllapsedTime: 29.2 seconds RetCode: 0 Status: OK