Package: maSigPro Version: 1.78.0 Command: F:\biocbuild\bbs-3.20-bioc\R\bin\R.exe CMD INSTALL maSigPro StartedAt: 2025-02-03 15:37:54 -0500 (Mon, 03 Feb 2025) EndedAt: 2025-02-03 15:38:20 -0500 (Mon, 03 Feb 2025) EllapsedTime: 26.8 seconds RetCode: 0 Status: OK