Package: maSigPro Version: 1.78.0 Command: /home/biocbuild/R/R/bin/R CMD INSTALL maSigPro StartedAt: 2025-02-03 20:22:40 -0000 (Mon, 03 Feb 2025) EndedAt: 2025-02-03 20:23:08 -0000 (Mon, 03 Feb 2025) EllapsedTime: 28.7 seconds RetCode: 0 Status: OK